BEGIN:VCALENDAR
VERSION:2.0
PRODID:spatie/icalendar-generator
DESCRIPTION:Veranstaltungen von Hebo Privatschule
X-WR-CALDESC:Veranstaltungen von Hebo Privatschule
REFRESH-INTERVAL;VALUE=DURATION:PT1440M
X-PUBLISHED-TTL:PT1440M
BEGIN:VTIMEZONE
TZID:Europe/Berlin
BEGIN:STANDARD
DTSTART:20241027T030000Z
TZOFFSETFROM:+0200
TZOFFSETTO:+0100
END:STANDARD
BEGIN:DAYLIGHT
DTSTART:20250330T020000Z
TZOFFSETFROM:+0100
TZOFFSETTO:+0200
END:DAYLIGHT
END:VTIMEZONE
BEGIN:VTIMEZONE
TZID:UTC
BEGIN:STANDARD
DTSTART:20250728T043242Z
TZOFFSETFROM:+0000
TZOFFSETTO:+0000
END:STANDARD
END:VTIMEZONE
BEGIN:VEVENT
UID:32-32
DTSTAMP:20260424T043242Z
SUMMARY:Mathematikprüfung schriftlich
LOCATION:
ORGANIZER;CN=Judith Winzen:MAILTO:j.winzen@hebo-privatschule.de
DTSTART;TZID=Europe/Berlin;VALUE=DATE:20250328
DTEND;TZID=Europe/Berlin;VALUE=DATE:20250329
X-ALT-DESC;FMTTYPE=TEXT/HTML:
CATEGORIES:Klasse 10a,  Klasse 10b,  Klasse 10c
URL;VALUE=URI:https://hebo-privatschule.de/mc-events/mathematikpruefung-sch
 riftlich/?mc_id=32
END:VEVENT
END:VCALENDAR